BEGIN:VCALENDAR
VERSION:2.0
PRODID:-//hacksw/handcal//NONSGML v1.0//EN
CALSCALE:GREGORIAN
BEGIN:VEVENT
UID:69ebe2efe834d
DTSTAMP:20260424T213855Z
DESCRIPTION:[W] Ohio Wesleyan University Men's Soccer at HiramW 4-1Streaming Video: https://vcloud.blueframetech.com/broadcast/embed/616636 https://www.battlingbishops.com/calendar.aspx?game_id=8461&amp\;sport_id=9
SUMMARY:Ohio Wesleyan University Men's Soccer at Hiram
DTSTART:20231010T230000Z
DTEND:20231011T010000Z
END:VEVENT
END:VCALENDAR
