BEGIN:VCALENDAR
VERSION:2.0
PRODID:-//hacksw/handcal//NONSGML v1.0//EN
CALSCALE:GREGORIAN
BEGIN:VEVENT
UID:69e878f1cead7
DTSTAMP:20260422T072953Z
DESCRIPTION:[T] Ohio Wesleyan University Men's Soccer at John CarrollT 1-1Streaming Video: https://jcusports.com/sports/2013/8/29/fan_0829130037.aspx?id=583
SUMMARY:Ohio Wesleyan University Men's Soccer at John Carroll
DTSTART:20240918T230000Z
DTEND:20240919T010000Z
END:VEVENT
END:VCALENDAR
