BEGIN:VCALENDAR
VERSION:2.0
PRODID:-//hacksw/handcal//NONSGML v1.0//EN
CALSCALE:GREGORIAN
BEGIN:VEVENT
UID:69e91f3817530
DTSTAMP:20260422T191920Z
DESCRIPTION:[L] Ohio Wesleyan University Men's Soccer at Mary WashingtonL 0-1Streaming Video: https://www.ncaa.com/game/6348520
SUMMARY:Ohio Wesleyan University Men's Soccer at Mary Washington
DTSTART:20241117T180000Z
DTEND:20241117T200000Z
END:VEVENT
END:VCALENDAR
