BEGIN:VCALENDAR
VERSION:2.0
PRODID:-//hacksw/handcal//NONSGML v1.0//EN
CALSCALE:GREGORIAN
BEGIN:VEVENT
UID:69e91f380b0ca
DTSTAMP:20260422T191920Z
DESCRIPTION:[L] Ohio Wesleyan University Men's Soccer at Ohio NorthernL 1-2Streaming Video: https://boxcast.tv/view/ms-v-ohio-wesleyan-9-11-24-vkcqc3d6ihcvzd1b9zt5
SUMMARY:Ohio Wesleyan University Men's Soccer at Ohio Northern
DTSTART:20240911T230000Z
DTEND:20240912T010000Z
END:VEVENT
END:VCALENDAR
