BEGIN:VCALENDAR
VERSION:2.0
PRODID:-//hacksw/handcal//NONSGML v1.0//EN
CALSCALE:GREGORIAN
BEGIN:VEVENT
UID:69e8de1fd471d
DTSTAMP:20260422T144135Z
DESCRIPTION:[W] Ohio Wesleyan University Men's Soccer at OtterbeinW 4-2Streaming Video: https://boxcast.tv/view/msoc-otterbein-vs-ohio-wesleyan-obc9jmk9xbqbyijlzwrw
SUMMARY:Ohio Wesleyan University Men's Soccer at Otterbein
DTSTART:20240914T180000Z
DTEND:20240914T200000Z
END:VEVENT
END:VCALENDAR
