BEGIN:VCALENDAR
VERSION:2.0
PRODID:-//hacksw/handcal//NONSGML v1.0//EN
CALSCALE:GREGORIAN
BEGIN:VEVENT
UID:69eb50449e18a
DTSTAMP:20260424T111308Z
DESCRIPTION:[W] Ohio Wesleyan University Men's Soccer at WabashW 2-0Streaming Video: https://sports.wabash.edu/sports/2021/10/28/wabash-college-video-network.aspx https://www.battlingbishops.com/calendar.aspx?game_id=8462&amp\;sport_id=9
SUMMARY:Ohio Wesleyan University Men's Soccer at Wabash
DTSTART:20231018T200000Z
DTEND:20231018T220000Z
END:VEVENT
END:VCALENDAR
