BEGIN:VCALENDAR
VERSION:2.0
PRODID:-//hacksw/handcal//NONSGML v1.0//EN
CALSCALE:GREGORIAN
BEGIN:VEVENT
UID:69eb106e7b3da
DTSTAMP:20260424T064046Z
DESCRIPTION:[W] Ohio Wesleyan University Men's Soccer at WoosterW 4-1Streaming Video: https://northcoastnetwork.com/wooster/ https://www.battlingbishops.com/calendar.aspx?game_id=8463&amp\;sport_id=9
SUMMARY:Ohio Wesleyan University Men's Soccer at Wooster
DTSTART:20231021T193000Z
DTEND:20231021T213000Z
END:VEVENT
END:VCALENDAR
