BEGIN:VCALENDAR
VERSION:2.0
PRODID:-//hacksw/handcal//NONSGML v1.0//EN
CALSCALE:GREGORIAN
BEGIN:VEVENT
UID:69e984dfcebdb
DTSTAMP:20260423T023303Z
DESCRIPTION:[W] Ohio Wesleyan University Men's Soccer vs CalvinW 2-1Streaming Video: https://www.northcoastnetwork.com/ohiowesleyan/
SUMMARY:Ohio Wesleyan University Men's Soccer vs Calvin
DTSTART:20240906T220000Z
DTEND:20240907T000000Z
END:VEVENT
END:VCALENDAR
