BEGIN:VCALENDAR
VERSION:2.0
PRODID:-//hacksw/handcal//NONSGML v1.0//EN
CALSCALE:GREGORIAN
BEGIN:VEVENT
UID:69e7d32bd9473
DTSTAMP:20260421T194235Z
DESCRIPTION:[W] Ohio Wesleyan University Men's Soccer vs CapitalW 5-0Streaming Video: https://www.northcoastnetwork.com/ohiowesleyan/
SUMMARY:Ohio Wesleyan University Men's Soccer vs Capital
DTSTART:20240925T230000Z
DTEND:20240926T010000Z
END:VEVENT
END:VCALENDAR
