BEGIN:VCALENDAR
VERSION:2.0
PRODID:-//hacksw/handcal//NONSGML v1.0//EN
CALSCALE:GREGORIAN
BEGIN:VEVENT
UID:69e908c58dfe2
DTSTAMP:20260422T174333Z
DESCRIPTION:[W] Ohio Wesleyan University Men's Soccer vs CatholicW 2-1Streaming Video: https://www.ncaa.com/game/6348501
SUMMARY:Ohio Wesleyan University Men's Soccer vs Catholic
DTSTART:20241116T183000Z
DTEND:20241116T203000Z
END:VEVENT
END:VCALENDAR
