BEGIN:VCALENDAR
VERSION:2.0
PRODID:-//hacksw/handcal//NONSGML v1.0//EN
CALSCALE:GREGORIAN
BEGIN:VEVENT
UID:69e95f39c99fc
DTSTAMP:20260422T235225Z
DESCRIPTION:Ohio Wesleyan University Men's Soccer vs Chicago vs. Illinois WesleyanStreaming Video: https://athletics.uchicago.edu/sports/2023/7/21/m-soccer-live-video.aspx https://www.battlingbishops.com/calendar.aspx?game_id=8739&amp\;sport_id=9
SUMMARY:Ohio Wesleyan University Men's Soccer vs Chicago vs. Illinois Wesleyan
DTSTART:20231111T170000Z
DTEND:20231111T190000Z
END:VEVENT
END:VCALENDAR
