BEGIN:VCALENDAR
VERSION:2.0
PRODID:-//hacksw/handcal//NONSGML v1.0//EN
CALSCALE:GREGORIAN
BEGIN:VEVENT
UID:69ea8a3f28c42
DTSTAMP:20260423T210815Z
DESCRIPTION:[L] Ohio Wesleyan University Men's Soccer vs DenisonL 0-2Streaming Video: https://www.northcoastnetwork.com/ohiowesleyan/ https://www.battlingbishops.com/calendar.aspx?game_id=8465&amp\;sport_id=9
SUMMARY:Ohio Wesleyan University Men's Soccer vs Denison
DTSTART:20231028T230000Z
DTEND:20231029T010000Z
END:VEVENT
END:VCALENDAR
