BEGIN:VCALENDAR
VERSION:2.0
PRODID:-//hacksw/handcal//NONSGML v1.0//EN
CALSCALE:GREGORIAN
BEGIN:VEVENT
UID:69ea37743d38e
DTSTAMP:20260423T151500Z
DESCRIPTION:[L] Ohio Wesleyan University Men's Soccer vs DenisonL 0-1Streaming Video: https://www.northcoastnetwork.com/ohiowesleyan/ https://www.battlingbishops.com/calendar.aspx?game_id=8466&amp\;sport_id=9
SUMMARY:Ohio Wesleyan University Men's Soccer vs Denison
DTSTART:20231101T230000Z
DTEND:20231102T010000Z
END:VEVENT
END:VCALENDAR
