BEGIN:VCALENDAR
VERSION:2.0
PRODID:-//hacksw/handcal//NONSGML v1.0//EN
CALSCALE:GREGORIAN
BEGIN:VEVENT
UID:69ead61834334
DTSTAMP:20260424T023152Z
DESCRIPTION:[W] Ohio Wesleyan University Men's Soccer vs DePauwW 4-2Streaming Video: https://www.northcoastnetwork.com/ohiowesleyan/ https://www.battlingbishops.com/calendar.aspx?game_id=8464&amp\;sport_id=9
SUMMARY:Ohio Wesleyan University Men's Soccer vs DePauw
DTSTART:20231024T220000Z
DTEND:20231025T000000Z
END:VEVENT
END:VCALENDAR
