BEGIN:VCALENDAR
VERSION:2.0
PRODID:-//hacksw/handcal//NONSGML v1.0//EN
CALSCALE:GREGORIAN
BEGIN:VEVENT
UID:69e8102ccf7bc
DTSTAMP:20260422T000252Z
DESCRIPTION:[L] Ohio Wesleyan University Men's Soccer vs DePauwL 1-2 (OT)Streaming Video: https://www.northcoastnetwork.com/ohiowesleyan/
SUMMARY:Ohio Wesleyan University Men's Soccer vs DePauw
DTSTART:20241108T000000Z
DTEND:20241108T020000Z
END:VEVENT
END:VCALENDAR
