BEGIN:VCALENDAR
VERSION:2.0
PRODID:-//hacksw/handcal//NONSGML v1.0//EN
CALSCALE:GREGORIAN
BEGIN:VEVENT
UID:69e971c87058b
DTSTAMP:20260423T011136Z
DESCRIPTION:[L] Ohio Wesleyan University Men's Soccer vs HopeL 1-2Streaming Video: https://www.northcoastnetwork.com/ohiowesleyan/
SUMMARY:Ohio Wesleyan University Men's Soccer vs Hope
DTSTART:20240907T220000Z
DTEND:20240908T000000Z
END:VEVENT
END:VCALENDAR
