BEGIN:VCALENDAR
VERSION:2.0
PRODID:-//hacksw/handcal//NONSGML v1.0//EN
CALSCALE:GREGORIAN
BEGIN:VEVENT
UID:69ea0d3ef14eb
DTSTAMP:20260423T121454Z
DESCRIPTION:[W] Ohio Wesleyan University Men's Soccer vs Mount UnionW 3-1Streaming Video: https://www.northcoastnetwork.com/ohiowesleyan/
SUMMARY:Ohio Wesleyan University Men's Soccer vs Mount Union
DTSTART:20240830T230000Z
DTEND:20240831T010000Z
END:VEVENT
END:VCALENDAR
