BEGIN:VCALENDAR
VERSION:2.0
PRODID:-//hacksw/handcal//NONSGML v1.0//EN
CALSCALE:GREGORIAN
BEGIN:VEVENT
UID:69e9e7a4279c0
DTSTAMP:20260423T093428Z
DESCRIPTION:Ohio Wesleyan University Men's Soccer vs NCAC tournament championship https://www.battlingbishops.com/calendar.aspx?game_id=8467&amp\;sport_id=9
SUMMARY:Ohio Wesleyan University Men's Soccer vs NCAC tournament championship
DTSTART:20231104
DTEND:20231104
END:VEVENT
END:VCALENDAR
