BEGIN:VCALENDAR
VERSION:2.0
PRODID:-//hacksw/handcal//NONSGML v1.0//EN
CALSCALE:GREGORIAN
BEGIN:VEVENT
UID:69e84a7d6e4ef
DTSTAMP:20260422T041141Z
DESCRIPTION:Ohio Wesleyan University Men's Soccer vs NCAC tournament championship
SUMMARY:Ohio Wesleyan University Men's Soccer vs NCAC tournament championship
DTSTART:20241110
DTEND:20241110
END:VEVENT
END:VCALENDAR
