BEGIN:VCALENDAR
VERSION:2.0
PRODID:-//hacksw/handcal//NONSGML v1.0//EN
CALSCALE:GREGORIAN
BEGIN:VEVENT
UID:69ec267605831
DTSTAMP:20260425T022702Z
DESCRIPTION:[W] Ohio Wesleyan University Men's Soccer vs OberlinW 2-0Streaming Video: https://www.northcoastnetwork.com/ohiowesleyan/ https://www.battlingbishops.com/calendar.aspx?game_id=8460&amp\;sport_id=9
SUMMARY:Ohio Wesleyan University Men's Soccer vs Oberlin
DTSTART:20231007T230000Z
DTEND:20231008T010000Z
END:VEVENT
END:VCALENDAR
