BEGIN:VCALENDAR
VERSION:2.0
PRODID:-//hacksw/handcal//NONSGML v1.0//EN
CALSCALE:GREGORIAN
BEGIN:VEVENT
UID:69e95f0b8831f
DTSTAMP:20260422T235139Z
DESCRIPTION:[W] Ohio Wesleyan University Men's Soccer vs Rose-HulmanW 2-0Streaming Video: https://athletics.uchicago.edu/sports/2023/7/21/m-soccer-live-video.aspx https://www.battlingbishops.com/calendar.aspx?game_id=8738&amp\;sport_id=9
SUMMARY:Ohio Wesleyan University Men's Soccer vs Rose-Hulman
DTSTART:20231111T193000Z
DTEND:20231111T213000Z
END:VEVENT
END:VCALENDAR
