BEGIN:VCALENDAR
VERSION:2.0
PRODID:-//hacksw/handcal//NONSGML v1.0//EN
CALSCALE:GREGORIAN
BEGIN:VEVENT
UID:69e9d52b6b12c
DTSTAMP:20260423T081539Z
DESCRIPTION:[W] Ohio Wesleyan University Men's Soccer vs StevensW 1-0Streaming Video: https://www.northcoastnetwork.com/ohiowesleyan/
SUMMARY:Ohio Wesleyan University Men's Soccer vs Stevens
DTSTART:20240901T160000Z
DTEND:20240901T180000Z
END:VEVENT
END:VCALENDAR
