BEGIN:VCALENDAR
VERSION:2.0
PRODID:-//hacksw/handcal//NONSGML v1.0//EN
CALSCALE:GREGORIAN
BEGIN:VEVENT
UID:69e768402f0f9
DTSTAMP:20260421T120624Z
DESCRIPTION:[L] Ohio Wesleyan University Men's Swimming & Diving at Baldwin WallaceL 104-114
SUMMARY:Ohio Wesleyan University Men's Swimming & Diving at Baldwin Wallace
DTSTART:20241102T170000Z
DTEND:20241102T200000Z
END:VEVENT
END:VCALENDAR
