BEGIN:VCALENDAR
VERSION:2.0
PRODID:-//hacksw/handcal//NONSGML v1.0//EN
CALSCALE:GREGORIAN
BEGIN:VEVENT
UID:69ebe2fe5da7e
DTSTAMP:20260424T213910Z
DESCRIPTION:[W] Ohio Wesleyan University Men's Swimming & Diving at BlufftonW 145-28Streaming Video: https://boxcast.tv/channel/b1skosljmdyycgsgsdlt
SUMMARY:Ohio Wesleyan University Men's Swimming & Diving at Bluffton
DTSTART:20250117T230000Z
DTEND:20250118T020000Z
END:VEVENT
END:VCALENDAR
