BEGIN:VCALENDAR
VERSION:2.0
PRODID:-//hacksw/handcal//NONSGML v1.0//EN
CALSCALE:GREGORIAN
BEGIN:VEVENT
UID:69e8c9fab97ae
DTSTAMP:20260422T131538Z
DESCRIPTION:[W] Ohio Wesleyan University Men's Swimming & Diving at HeidelbergW 113-35Streaming Video: https://boxcast.tv/view/swim-vs-ohio-wesleyan-cn7xj9yxd48xgmnfisgn
SUMMARY:Ohio Wesleyan University Men's Swimming & Diving at Heidelberg
DTSTART:20241115T230000Z
DTEND:20241116T020000Z
END:VEVENT
END:VCALENDAR
