BEGIN:VCALENDAR
VERSION:2.0
PRODID:-//hacksw/handcal//NONSGML v1.0//EN
CALSCALE:GREGORIAN
BEGIN:VEVENT
UID:69eb6b77ddc3f
DTSTAMP:20260424T130911Z
DESCRIPTION:[N] Ohio Wesleyan University Men's Swimming & Diving at Kenyon not scored
SUMMARY:Ohio Wesleyan University Men's Swimming & Diving at Kenyon
DTSTART:20241213T223000Z
DTEND:20241214T013000Z
END:VEVENT
END:VCALENDAR
