BEGIN:VCALENDAR
VERSION:2.0
PRODID:-//hacksw/handcal//NONSGML v1.0//EN
CALSCALE:GREGORIAN
BEGIN:VEVENT
UID:69eba4eec5e7c
DTSTAMP:20260424T171422Z
DESCRIPTION:[N] Ohio Wesleyan University Men's Swimming & Diving at Kenyon Relays - Diving at 9 a.m. 5th of 5Streaming Video: https://www.youtube.com/watch?v=XPBiW3w-UVc https://www.battlingbishops.com/calendar.aspx?game_id=8515&amp\;sport_id=10
SUMMARY:Ohio Wesleyan University Men's Swimming & Diving at Kenyon Relays - Diving at 9 a.m.
DTSTART:20231014T130000Z
DTEND:20231014T160000Z
END:VEVENT
END:VCALENDAR
