BEGIN:VCALENDAR
VERSION:2.0
PRODID:-//hacksw/handcal//NONSGML v1.0//EN
CALSCALE:GREGORIAN
BEGIN:VEVENT
UID:69eb9fa162209
DTSTAMP:20260424T165145Z
DESCRIPTION:[L] Ohio Wesleyan University Men's Swimming & Diving at OberlinL 61-194Streaming Video: https://oberlinsportsnetwork.com/
SUMMARY:Ohio Wesleyan University Men's Swimming & Diving at Oberlin
DTSTART:20250114T200000Z
DTEND:20250114T230000Z
END:VEVENT
END:VCALENDAR
