BEGIN:VCALENDAR
VERSION:2.0
PRODID:-//hacksw/handcal//NONSGML v1.0//EN
CALSCALE:GREGORIAN
BEGIN:VEVENT
UID:69e95f39f33b4
DTSTAMP:20260422T235225Z
DESCRIPTION:[W] Ohio Wesleyan University Men's Swimming & Diving at WittenbergW 132-54Streaming Video: https://www.youtube.com/@tigersportsnetwork1556 https://www.battlingbishops.com/calendar.aspx?game_id=8520&amp\;sport_id=10
SUMMARY:Ohio Wesleyan University Men's Swimming & Diving at Wittenberg
DTSTART:20231111T180000Z
DTEND:20231111T210000Z
END:VEVENT
END:VCALENDAR
