BEGIN:VCALENDAR
VERSION:2.0
PRODID:-//hacksw/handcal//NONSGML v1.0//EN
CALSCALE:GREGORIAN
BEGIN:VEVENT
UID:69e9e77a278e7
DTSTAMP:20260423T093346Z
DESCRIPTION:[L] Ohio Wesleyan University Men's Swimming & Diving vs Baldwin WallaceL 72-147Streaming Video: https://www.northcoastnetwork.com/ohiowesleyan/ https://www.battlingbishops.com/calendar.aspx?game_id=8518&amp\;sport_id=10
SUMMARY:Ohio Wesleyan University Men's Swimming & Diving vs Baldwin Wallace
DTSTART:20231104T170000Z
DTEND:20231104T200000Z
END:VEVENT
END:VCALENDAR
