BEGIN:VCALENDAR
VERSION:2.0
PRODID:-//hacksw/handcal//NONSGML v1.0//EN
CALSCALE:GREGORIAN
BEGIN:VEVENT
UID:69eb1035297e2
DTSTAMP:20260424T063949Z
DESCRIPTION:[L] Ohio Wesleyan University Men's Swimming & Diving vs Case ReserveL 27-253Streaming Video: https://www.northcoastnetwork.com/ohiowesleyan/ https://www.battlingbishops.com/calendar.aspx?game_id=8516&amp\;sport_id=10
SUMMARY:Ohio Wesleyan University Men's Swimming & Diving vs Case Reserve
DTSTART:20231021T170000Z
DTEND:20231021T200000Z
END:VEVENT
END:VCALENDAR
