BEGIN:VCALENDAR
VERSION:2.0
PRODID:-//hacksw/handcal//NONSGML v1.0//EN
CALSCALE:GREGORIAN
BEGIN:VEVENT
UID:69e8a03f51104
DTSTAMP:20260422T101735Z
DESCRIPTION:[N] Ohio Wesleyan University Men's Swimming & Diving vs Corbiere-Merion Invitational 3rd of 6 https://www.battlingbishops.com/calendar.aspx?game_id=8522&amp\;sport_id=10
SUMMARY:Ohio Wesleyan University Men's Swimming & Diving vs Corbiere-Merion Invitational
DTSTART:20231119T150000Z
DTEND:20231119T180000Z
END:VEVENT
END:VCALENDAR
