BEGIN:VCALENDAR
VERSION:2.0
PRODID:-//hacksw/handcal//NONSGML v1.0//EN
CALSCALE:GREGORIAN
BEGIN:VEVENT
UID:69e9ac76e2ca1
DTSTAMP:20260423T052158Z
DESCRIPTION:[N] Ohio Wesleyan University Men's Swimming & Diving vs Corbiere-Merion Invitational first day
SUMMARY:Ohio Wesleyan University Men's Swimming & Diving vs Corbiere-Merion Invitational
DTSTART:20241123T150000Z
DTEND:20241123T180000Z
END:VEVENT
END:VCALENDAR
