BEGIN:VCALENDAR
VERSION:2.0
PRODID:-//hacksw/handcal//NONSGML v1.0//EN
CALSCALE:GREGORIAN
BEGIN:VEVENT
UID:69ea0d3ecd72c
DTSTAMP:20260423T121454Z
DESCRIPTION:[L] Ohio Wesleyan University Men's Swimming & Diving vs Kenyon - Swimming at Ohio Wesleyan\, Diving at KenyonL 30-220 https://www.battlingbishops.com/calendar.aspx?game_id=8517&amp\;sport_id=10
SUMMARY:Ohio Wesleyan University Men's Swimming & Diving vs Kenyon - Swimming at Ohio Wesleyan\, Diving at Kenyon
DTSTART:20231103T220000Z
DTEND:20231104T010000Z
END:VEVENT
END:VCALENDAR
