BEGIN:VCALENDAR
VERSION:2.0
PRODID:-//hacksw/handcal//NONSGML v1.0//EN
CALSCALE:GREGORIAN
BEGIN:VEVENT
UID:69e908f9478a2
DTSTAMP:20260422T174425Z
DESCRIPTION:[W] Ohio Wesleyan University Men's Swimming & Diving vs WittenbergW 130-58
SUMMARY:Ohio Wesleyan University Men's Swimming & Diving vs Wittenberg
DTSTART:20241116T180000Z
DTEND:20241116T210000Z
END:VEVENT
END:VCALENDAR
