BEGIN:VCALENDAR
VERSION:2.0
PRODID:-//hacksw/handcal//NONSGML v1.0//EN
CALSCALE:GREGORIAN
BEGIN:VEVENT
UID:69ebf8bc35f4d
DTSTAMP:20260424T231156Z
DESCRIPTION:[L] Ohio Wesleyan University Men's Swimming & Diving vs WoosterL 45-158
SUMMARY:Ohio Wesleyan University Men's Swimming & Diving vs Wooster
DTSTART:20250118T180000Z
DTEND:20250118T210000Z
END:VEVENT
END:VCALENDAR
