BEGIN:VCALENDAR
VERSION:2.0
PRODID:-//hacksw/handcal//NONSGML v1.0//EN
CALSCALE:GREGORIAN
BEGIN:VEVENT
UID:69eccf032ca89
DTSTAMP:20260425T142611Z
DESCRIPTION:[N] Ohio Wesleyan University Men's Tennis at ITA Central Region Championship first day https://www.battlingbishops.com/calendar.aspx?game_id=8688&amp\;sport_id=11
SUMMARY:Ohio Wesleyan University Men's Tennis at ITA Central Region Championship
DTSTART:20230929
DTEND:20230929
END:VEVENT
END:VCALENDAR
