BEGIN:VCALENDAR
VERSION:2.0
PRODID:-//hacksw/handcal//NONSGML v1.0//EN
CALSCALE:GREGORIAN
BEGIN:VEVENT
UID:69ecbee43fb59
DTSTAMP:20260425T131724Z
DESCRIPTION:[N] Ohio Wesleyan University Men's Tennis at ITA Central Region Championship second day https://www.battlingbishops.com/calendar.aspx?game_id=8689&amp\;sport_id=11
SUMMARY:Ohio Wesleyan University Men's Tennis at ITA Central Region Championship
DTSTART:20230930
DTEND:20230930
END:VEVENT
END:VCALENDAR
