BEGIN:VCALENDAR
VERSION:2.0
PRODID:-//hacksw/handcal//NONSGML v1.0//EN
CALSCALE:GREGORIAN
BEGIN:VEVENT
UID:69eca719c184a
DTSTAMP:20260425T113553Z
DESCRIPTION:Ohio Wesleyan University Men's Tennis at ITA Central Region Championship https://www.battlingbishops.com/calendar.aspx?game_id=8690&amp\;sport_id=11
SUMMARY:Ohio Wesleyan University Men's Tennis at ITA Central Region Championship
DTSTART:20231001
DTEND:20231001
END:VEVENT
END:VCALENDAR
