BEGIN:VCALENDAR
VERSION:2.0
PRODID:-//hacksw/handcal//NONSGML v1.0//EN
CALSCALE:GREGORIAN
BEGIN:VEVENT
UID:69e852d06c5c1
DTSTAMP:20260422T044712Z
DESCRIPTION:[N] Ohio Wesleyan University Men's Tennis at ITA Central Regional Championship first day
SUMMARY:Ohio Wesleyan University Men's Tennis at ITA Central Regional Championship
DTSTART:20240920
DTEND:20240920
END:VEVENT
END:VCALENDAR
