BEGIN:VCALENDAR
VERSION:2.0
PRODID:-//hacksw/handcal//NONSGML v1.0//EN
CALSCALE:GREGORIAN
BEGIN:VEVENT
UID:69e84103520b6
DTSTAMP:20260422T033115Z
DESCRIPTION:[N] Ohio Wesleyan University Men's Tennis at ITA Central Regional Championship second day
SUMMARY:Ohio Wesleyan University Men's Tennis at ITA Central Regional Championship
DTSTART:20240921
DTEND:20240921
END:VEVENT
END:VCALENDAR
