BEGIN:VCALENDAR
VERSION:2.0
PRODID:-//hacksw/handcal//NONSGML v1.0//EN
CALSCALE:GREGORIAN
BEGIN:VEVENT
UID:69e95f3a0c17b
DTSTAMP:20260422T235226Z
DESCRIPTION:[W] Ohio Wesleyan University Men's Tennis at Mount UnionW 7-0
SUMMARY:Ohio Wesleyan University Men's Tennis at Mount Union
DTSTART:20240908T170000Z
DTEND:20240908T200000Z
END:VEVENT
END:VCALENDAR
