BEGIN:VCALENDAR
VERSION:2.0
PRODID:-//hacksw/handcal//NONSGML v1.0//EN
CALSCALE:GREGORIAN
BEGIN:VEVENT
UID:69ecfc0386f2c
DTSTAMP:20260425T173811Z
DESCRIPTION:[N] Ohio Wesleyan University Men's Track & Field at Dr. Taraschke Team Challenge 3rd of 5
SUMMARY:Ohio Wesleyan University Men's Track & Field at Dr. Taraschke Team Challenge
DTSTART:20250201T150000Z
DTEND:20250201T180000Z
END:VEVENT
END:VCALENDAR
