BEGIN:VCALENDAR
VERSION:2.0
PRODID:-//hacksw/handcal//NONSGML v1.0//EN
CALSCALE:GREGORIAN
BEGIN:VEVENT
UID:69ecbee46f84b
DTSTAMP:20260425T131724Z
DESCRIPTION:[N] Ohio Wesleyan University Men's Track & Field at Harrison Dillard Twilight meet first day https://www.battlingbishops.com/calendar.aspx?game_id=8614&amp\;sport_id=12
SUMMARY:Ohio Wesleyan University Men's Track & Field at Harrison Dillard Twilight meet
DTSTART:20240509T150000Z
DTEND:20240509T180000Z
END:VEVENT
END:VCALENDAR
