BEGIN:VCALENDAR
VERSION:2.0
PRODID:-//hacksw/handcal//NONSGML v1.0//EN
CALSCALE:GREGORIAN
BEGIN:VEVENT
UID:69eca71514a6b
DTSTAMP:20260425T113549Z
DESCRIPTION:[N] Ohio Wesleyan University Men's Track & Field at Harrison Dillard Twilight meet not scored https://www.battlingbishops.com/calendar.aspx?game_id=8615&amp\;sport_id=12
SUMMARY:Ohio Wesleyan University Men's Track & Field at Harrison Dillard Twilight meet
DTSTART:20240510T170000Z
DTEND:20240510T200000Z
END:VEVENT
END:VCALENDAR
