BEGIN:VCALENDAR
VERSION:2.0
PRODID:-//hacksw/handcal//NONSGML v1.0//EN
CALSCALE:GREGORIAN
BEGIN:VEVENT
UID:69ec26465363c
DTSTAMP:20260425T022614Z
DESCRIPTION:[N] Ohio Wesleyan University Men's Track & Field at NCAA Division III championship first dayStreaming Video: https://www.ncaa.com/event/4520 https://www.battlingbishops.com/calendar.aspx?game_id=8618&amp\;sport_id=12
SUMMARY:Ohio Wesleyan University Men's Track & Field at NCAA Division III championship
DTSTART:20240523T150000Z
DTEND:20240523T180000Z
END:VEVENT
END:VCALENDAR
