BEGIN:VCALENDAR
VERSION:2.0
PRODID:-//hacksw/handcal//NONSGML v1.0//EN
CALSCALE:GREGORIAN
BEGIN:VEVENT
UID:69ebf8e6038ec
DTSTAMP:20260424T231238Z
DESCRIPTION:Ohio Wesleyan University Men's Track & Field at NCAA Division III championship https://www.battlingbishops.com/calendar.aspx?game_id=8619&amp\;sport_id=12
SUMMARY:Ohio Wesleyan University Men's Track & Field at NCAA Division III championship
DTSTART:20240524T173000Z
DTEND:20240524T203000Z
END:VEVENT
END:VCALENDAR
