BEGIN:VCALENDAR
VERSION:2.0
PRODID:-//hacksw/handcal//NONSGML v1.0//EN
CALSCALE:GREGORIAN
BEGIN:VEVENT
UID:69ed24c6686a0
DTSTAMP:20260425T203206Z
DESCRIPTION:[N] Ohio Wesleyan University Men's Track & Field at NCAC championship first dayStreaming Video: https://www.northcoastnetwork.com/denison/ https://www.battlingbishops.com/calendar.aspx?game_id=8612&amp\;sport_id=12
SUMMARY:Ohio Wesleyan University Men's Track & Field at NCAC championship
DTSTART:20240503T160000Z
DTEND:20240503T190000Z
END:VEVENT
END:VCALENDAR
