BEGIN:VCALENDAR
VERSION:2.0
PRODID:-//hacksw/handcal//NONSGML v1.0//EN
CALSCALE:GREGORIAN
BEGIN:VEVENT
UID:69ed102e160b9
DTSTAMP:20260425T190414Z
DESCRIPTION:[N] Ohio Wesleyan University Men's Track & Field at NCAC championship 6th of 9Streaming Video: https://www.northcoastnetwork.com/denison/ https://www.battlingbishops.com/calendar.aspx?game_id=8613&amp\;sport_id=12
SUMMARY:Ohio Wesleyan University Men's Track & Field at NCAC championship
DTSTART:20240504T140000Z
DTEND:20240504T170000Z
END:VEVENT
END:VCALENDAR
