BEGIN:VCALENDAR
VERSION:2.0
PRODID:-//hacksw/handcal//NONSGML v1.0//EN
CALSCALE:GREGORIAN
BEGIN:VEVENT
UID:69ecfbdb4d026
DTSTAMP:20260425T173731Z
DESCRIPTION:[N] Ohio Wesleyan University Men's Track & Field at Steemer Showcase not scoredStreaming Video: https://tigersportsnetwork.com/
SUMMARY:Ohio Wesleyan University Men's Track & Field at Steemer Showcase
DTSTART:20250201T160000Z
DTEND:20250201T190000Z
END:VEVENT
END:VCALENDAR
